BEGIN:VCALENDAR
VERSION:2.0
PRODID:-//DEHSART official - ECPv4.1.1//NONSGML v1.0//EN
CALSCALE:GREGORIAN
METHOD:PUBLISH
X-WR-CALNAME:DEHSART official
X-ORIGINAL-URL:http://dehsart.com
X-WR-CALDESC:Events for DEHSART official
BEGIN:VEVENT
DTSTART;TZID=America/Los_Angeles:20180825T160000
DTEND;TZID=America/Los_Angeles:20181025T170000
DTSTAMP:20260422T222158
CREATED:20180721T003156
LAST-MODIFIED:20180721T005102
UID:1051-1535212800-1540486800@dehsart.com
SUMMARY:Selections from the Waste Wunderkammer
DESCRIPTION:While a Wunderkammer can be a flashy exultation of wealth\, one can see the hubris of human consumption by following nearly any path off asphalt in the Mojave. Artist Karyl Newman has been mapping\, photographing and collecting our consumptive detritus since 2013 as DEHSART.com (trashed backward). At the Antelope Valley Conservancy\, as part of MaidenLA\, a selection of objects from the archive will be on view along with images of their origin in the desert\, research into their provenance and geo-locations illustrating how close illegal dumping may be to your homes\, schools and places of work or worship. The exhibit will provide tools to report or recycle your own discarded discoveries in an effort to keep our desert clean.\n\nMaiden LA\, a decentralized county-wide network of ‘happenings’ throughout the month of August\, is a way to assemble and connect Los Angeles artists\, curators\, performers\, collectives\, organizations\, etc.\, to host open studios\, group shows\, or self-initiated projects in both traditional and unconventional spaces.\n\nANTELOPE VALLEY CONSERVANCY'S MISSION is the acquisition and stewardship of native habitats\, watershed resources\, and lands that offer community value. Our mission acknowledges future generations’ interests in land that maintains community character\, ecological function\, and scenic beauty\, as well as the right of nature to retain territory\, particularly functional habitats and connectivity.\n\nAugust 25th – October 25sth\n\nOpening: August 25th 4pm – 7pm or by appointment\n\nOpen these Saturdays: September 8\, September 22 (Artist Talk with Karyl Newman)\, October 6\, October 20 (Artist Talk with Karyl Newman)\n\n \n\n \n\n 
URL:http://dehsart.com/event/selections-from-the-waste-wunderkammer
LOCATION:42105 50th St W 93536\, Quartz Hill\, 93536\, United States
ATTACH;FMTTYPE=image/jpeg:http://dehsart.com/wp-content/uploads/2018/07/TuppewareIrMG_5148.jpg
ORGANIZER;CN="AV%20Conservancy":MAILTO:avconservancy@gmail.com
END:VEVENT
END:VCALENDAR