BEGIN:VCALENDAR
VERSION:2.0
PRODID:-//DEHSART official - ECPv4.1.1//NONSGML v1.0//EN
CALSCALE:GREGORIAN
METHOD:PUBLISH
X-WR-CALNAME:DEHSART official
X-ORIGINAL-URL:http://dehsart.com
X-WR-CALDESC:Events for DEHSART official
BEGIN:VEVENT
DTSTART;TZID=America/Los_Angeles:20160317T120000
DTEND;TZID=America/Los_Angeles:20160317T130000
DTSTAMP:20260422T221807
CREATED:20160305T014918
LAST-MODIFIED:20160405T005500
UID:887-1458216000-1458219600@dehsart.com
SUMMARY:Talking Trash
DESCRIPTION:A Brown Bag Lunch Lecture presented by DEHSART co-founder Karyl Newman. Inspired by a polaroid found three years ago\, she will talk about how we can all help to reverse the rubbish in our deserts by implementing a community collection station\, working with recycling and clean-up partners and contributing to the collection of illegal dumping data though a new reporting application.\n\n 
URL:http://dehsart.com/event/talking-trash
LOCATION:57116 Twentynine Palms Highway\, Yucca Valley\, CA\, 92284\, United States
END:VEVENT
END:VCALENDAR